BEGIN:VCALENDAR
VERSION:2.0
PRODID:-//hacksw/handcal//NONSGML v1.0//EN
BEGIN:VEVENT
SUMMARY:ENTRAINEMENTS
UID:4a0cdf86-43f3-4432-8e56-cb6da8c2937f
DTSTART:20260420T151500Z
DTEND:20260515T170000Z
LOCATION:Complexe sportif Antoine Saint-Exupery rue Joseph Le Bouille 56700 BRANDERION
CATEGORIES:Entrainement
STATUS:
URL;VALUE=URI:https://archers-lochristois.sportsregions.fr/evenements/2026/04/20/entrainements-2377569
END:VEVENT
END:VCALENDAR
